BEGIN:VCALENDAR
VERSION:2.0
PRODID:-//Energiewende Vaterstetten - ECPv6.15.20//NONSGML v1.0//EN
CALSCALE:GREGORIAN
METHOD:PUBLISH
X-WR-CALNAME:Energiewende Vaterstetten
X-ORIGINAL-URL:https://energiewende-vaterstetten.de
X-WR-CALDESC:Veranstaltungen für Energiewende Vaterstetten
REFRESH-INTERVAL;VALUE=DURATION:PT1H
X-Robots-Tag:noindex
X-PUBLISHED-TTL:PT1H
BEGIN:VTIMEZONE
TZID:Europe/Berlin
BEGIN:DAYLIGHT
TZOFFSETFROM:+0100
TZOFFSETTO:+0200
TZNAME:CEST
DTSTART:20250330T010000
END:DAYLIGHT
BEGIN:STANDARD
TZOFFSETFROM:+0200
TZOFFSETTO:+0100
TZNAME:CET
DTSTART:20251026T010000
END:STANDARD
BEGIN:DAYLIGHT
TZOFFSETFROM:+0100
TZOFFSETTO:+0200
TZNAME:CEST
DTSTART:20260329T010000
END:DAYLIGHT
BEGIN:STANDARD
TZOFFSETFROM:+0200
TZOFFSETTO:+0100
TZNAME:CET
DTSTART:20261025T010000
END:STANDARD
BEGIN:DAYLIGHT
TZOFFSETFROM:+0100
TZOFFSETTO:+0200
TZNAME:CEST
DTSTART:20270328T010000
END:DAYLIGHT
BEGIN:STANDARD
TZOFFSETFROM:+0200
TZOFFSETTO:+0100
TZNAME:CET
DTSTART:20271031T010000
END:STANDARD
END:VTIMEZONE
BEGIN:VEVENT
DTSTART;TZID=Europe/Berlin:20260422T170000
DTEND;TZID=Europe/Berlin:20260422T190000
DTSTAMP:20260422T122429
CREATED:20260321T221652Z
LAST-MODIFIED:20260421T133735Z
UID:2297-1776877200-1776884400@energiewende-vaterstetten.de
SUMMARY:Energetische Gebäudemodernisierung – Heizen mit Holz und Wärmepumpe
DESCRIPTION:Das Anfang 2024 in Kraft getretene Gebäudeenergiegesetz schreibt vor\, dass ab sofort nur noch Heizungsanlagen eingebaut werden dürfen\, die zu mindestens 65 Prozent mit Erneuerbaren Energien betrieben werden. Gängige Wärmeerzeuger\, die diese Vorgabe erfüllen\, sind Wärmepumpen oder Holzheizungen. In diesem Termin informieren Annemarie Bruckert und Sabine Hiendlmeier von C.A.R.M.E.N. e.V. über die Grundlagen dieser beiden Heizsysteme. Auch hybride Heizsysteme werden beleuchtet\, denn eine Kombination mit Solarthermie oder einer PV-Anlage mit eigenem Strom vom Dach ist in vielen Fällen vorteilhaft. \nZur Veranstaltung
URL:https://energiewende-vaterstetten.de/veranstaltungskalender/webseminar-energetische-gebaeudemodernisierung-heizen-mit-holz-und-waermepumpe/
LOCATION:Online
CATEGORIES:Online
ATTACH;FMTTYPE=image/svg+xml:https://energiewende-vaterstetten.de/wp-content/uploads/2025/02/CARMEN-Logo.svg
ORGANIZER;CN="C.A.R.M.E.N. E.V.":MAILTO:contact@carmen-ev.bayern.de
END:VEVENT
END:VCALENDAR