BEGIN:VCALENDAR
VERSION:2.0
PRODID:-//Energiewende Vaterstetten - ECPv6.15.20//NONSGML v1.0//EN
CALSCALE:GREGORIAN
METHOD:PUBLISH
X-WR-CALNAME:Energiewende Vaterstetten
X-ORIGINAL-URL:https://energiewende-vaterstetten.de
X-WR-CALDESC:Veranstaltungen für Energiewende Vaterstetten
REFRESH-INTERVAL;VALUE=DURATION:PT1H
X-Robots-Tag:noindex
X-PUBLISHED-TTL:PT1H
BEGIN:VTIMEZONE
TZID:Europe/Berlin
BEGIN:DAYLIGHT
TZOFFSETFROM:+0100
TZOFFSETTO:+0200
TZNAME:CEST
DTSTART:20250330T010000
END:DAYLIGHT
BEGIN:STANDARD
TZOFFSETFROM:+0200
TZOFFSETTO:+0100
TZNAME:CET
DTSTART:20251026T010000
END:STANDARD
BEGIN:DAYLIGHT
TZOFFSETFROM:+0100
TZOFFSETTO:+0200
TZNAME:CEST
DTSTART:20260329T010000
END:DAYLIGHT
BEGIN:STANDARD
TZOFFSETFROM:+0200
TZOFFSETTO:+0100
TZNAME:CET
DTSTART:20261025T010000
END:STANDARD
BEGIN:DAYLIGHT
TZOFFSETFROM:+0100
TZOFFSETTO:+0200
TZNAME:CEST
DTSTART:20270328T010000
END:DAYLIGHT
BEGIN:STANDARD
TZOFFSETFROM:+0200
TZOFFSETTO:+0100
TZNAME:CET
DTSTART:20271031T010000
END:STANDARD
END:VTIMEZONE
BEGIN:VEVENT
DTSTART;TZID=Europe/Berlin:20260421T170000
DTEND;TZID=Europe/Berlin:20260421T190000
DTSTAMP:20260421T015015
CREATED:20260321T221455Z
LAST-MODIFIED:20260321T221455Z
UID:2295-1776790800-1776798000@energiewende-vaterstetten.de
SUMMARY:WebSeminar „Energetische Gebäudemodernisierung – Gebäudehülle”
DESCRIPTION:Welche Dämmung ist für welches Haus geeignet? Welche Anforderungen muss unsere Gebäudehülle in Zukunft erfüllen? Welche Umweltfaktoren sollten außerdem berücksichtigt werden? Es gibt eine große Auswahl an verschiedenen Materialien und Methoden\, die sich unter anderem in den Kosten\, der Wärmeleitfähigkeit und der Nachhaltigkeit unterscheiden. Julia Lehmann und Tobias Doblinger von C.A.R.M.E.N. e.V. informieren über die wichtigsten Grundlagen der Gebäudesanierung und geben einen Überblick über verschiedene Dämmmöglichkeiten mit Nachwachsenden Rohstoffen.  \nZur Veranstaltung
URL:https://energiewende-vaterstetten.de/veranstaltungskalender/webseminar-energetische-gebaeudemodernisierung-gebaeudehuelle/
LOCATION:Online
CATEGORIES:Online
ATTACH;FMTTYPE=image/svg+xml:https://energiewende-vaterstetten.de/wp-content/uploads/2025/02/CARMEN-Logo.svg
ORGANIZER;CN="C.A.R.M.E.N. E.V.":MAILTO:contact@carmen-ev.bayern.de
END:VEVENT
END:VCALENDAR